BEGIN:VCALENDAR
VERSION:2.0
PRODID:-//time.you/holidays//NONSGML v1.0//EN
BEGIN:VEVENT
UID:8bd7ad1b-a80c-45ae-999b-022bba077025
DTSTAMP:20260422T071305Z
DTSTART;VALUE=DATE:20261224
SUMMARY:Christmas Eve (Malaysia)
END:VEVENT
END:VCALENDAR