BEGIN:VCALENDAR
VERSION:2.0
PRODID:-//time.you/holidays//NONSGML v1.0//EN
BEGIN:VEVENT
UID:4b27c006-8d2e-4d45-ade4-58217423e377
DTSTAMP:20260421T234124Z
DTSTART;VALUE=DATE:20221128
SUMMARY:Cuti Peristiwa (Malaysia)
END:VEVENT
END:VCALENDAR