BEGIN:VCALENDAR
VERSION:2.0
PRODID:-//time.you/holidays//NONSGML v1.0//EN
BEGIN:VEVENT
UID:dd4ca5a6-0767-4d2f-a660-6bd29a069d1b
DTSTAMP:20260423T170215Z
DTSTART;VALUE=DATE:20280221
SUMMARY:Declaration of Independence Day (observed) (Malaysia)
END:VEVENT
END:VCALENDAR