BEGIN:VCALENDAR
VERSION:2.0
PRODID:-//time.you/holidays//NONSGML v1.0//EN
BEGIN:VEVENT
UID:9ac99f98-4c15-42ba-9d8e-b3dfd5025e05
DTSTAMP:20260422T070220Z
DTSTART;VALUE=DATE:20260220
SUMMARY:Declaration of Independence Day (Malaysia)
END:VEVENT
END:VCALENDAR