BEGIN:VCALENDAR
VERSION:2.0
PRODID:-//time.you/holidays//NONSGML v1.0//EN
BEGIN:VEVENT
UID:bc1aa745-7039-4281-bf0c-780a31f57f0a
DTSTAMP:20260423T171646Z
DTSTART;VALUE=DATE:20261108
SUMMARY:Deepavali (observed) (Malaysia)
END:VEVENT
END:VCALENDAR