BEGIN:VCALENDAR
VERSION:2.0
PRODID:-//time.you/holidays//NONSGML v1.0//EN
BEGIN:VEVENT
UID:b94803e5-2686-476c-b8c1-afaf26ab3fdf
DTSTAMP:20260421T185811Z
DTSTART;VALUE=DATE:20260527
SUMMARY:Eid al-Adha (estimated) (Malaysia)
END:VEVENT
END:VCALENDAR