BEGIN:VCALENDAR
VERSION:2.0
PRODID:-//time.you/holidays//NONSGML v1.0//EN
BEGIN:VEVENT
UID:a6659bfc-668f-40be-953d-e3f10e027357
DTSTAMP:20260421T223316Z
DTSTART;VALUE=DATE:20270517
SUMMARY:Eid al-Adha (observed, estimated) (Malaysia)
END:VEVENT
END:VCALENDAR