BEGIN:VCALENDAR
VERSION:2.0
PRODID:-//time.you/holidays//NONSGML v1.0//EN
BEGIN:VEVENT
UID:322e472a-b030-4cb1-bee0-80dab7dafd09
DTSTAMP:20260421T131313Z
DTSTART;VALUE=DATE:20280507
SUMMARY:Eid al-Adha (Second Day) (observed, estimated) (Malaysia)
END:VEVENT
END:VCALENDAR