BEGIN:VCALENDAR
VERSION:2.0
PRODID:-//time.you/holidays//NONSGML v1.0//EN
BEGIN:VEVENT
UID:bf022ca8-cae3-4bc4-a56c-4131af1cc050
DTSTAMP:20260424T122253Z
DTSTART;VALUE=DATE:20260320
SUMMARY:Eid al-Fitr (estimated) (Malaysia)
END:VEVENT
END:VCALENDAR