BEGIN:VCALENDAR
VERSION:2.0
PRODID:-//time.you/holidays//NONSGML v1.0//EN
BEGIN:VEVENT
UID:3b550807-5549-4dba-ad3c-ff85fcc85abd
DTSTAMP:20260425T130312Z
DTSTART;VALUE=DATE:20260321
SUMMARY:Eid al-Fitr (Second Day) (estimated) (Malaysia)
END:VEVENT
END:VCALENDAR