BEGIN:VCALENDAR
VERSION:2.0
PRODID:-//time.you/holidays//NONSGML v1.0//EN
BEGIN:VEVENT
UID:35c78aac-0c97-4861-9194-061f3b7e4847
DTSTAMP:20260424T053253Z
DTSTART;VALUE=DATE:20230424
SUMMARY:Eid al-Fitr (Second Day) (observed) (Malaysia)
END:VEVENT
END:VCALENDAR