BEGIN:VCALENDAR
VERSION:2.0
PRODID:-//time.you/holidays//NONSGML v1.0//EN
BEGIN:VEVENT
UID:92ecaf4e-7ebe-49d9-ae11-3e1b727c0145
DTSTAMP:20260421T113317Z
DTSTART;VALUE=DATE:20250401
SUMMARY:Eid al-Fitr (Second Day) (Malaysia)
END:VEVENT
END:VCALENDAR