BEGIN:VCALENDAR
VERSION:2.0
PRODID:-//time.you/holidays//NONSGML v1.0//EN
BEGIN:VEVENT
UID:e36df179-90d6-4c0a-ae66-d37b51ef8f7f
DTSTAMP:20260422T024417Z
DTSTART;VALUE=DATE:20250331
SUMMARY:Eid al-Fitr (Malaysia)
END:VEVENT
END:VCALENDAR