BEGIN:VCALENDAR
VERSION:2.0
PRODID:-//time.you/holidays//NONSGML v1.0//EN
BEGIN:VEVENT
UID:c1de2b0b-4977-48fa-85d9-812a33e8542b
DTSTAMP:20260424T131639Z
DTSTART;VALUE=DATE:20240708
SUMMARY:George Town Heritage Day (observed); Islamic New Year (observed) (Malaysia)
END:VEVENT
END:VCALENDAR