BEGIN:VCALENDAR
VERSION:2.0
PRODID:-//time.you/holidays//NONSGML v1.0//EN
BEGIN:VEVENT
UID:85c0af2c-2c29-4758-b3b6-93228ee20351
DTSTAMP:20260421T041323Z
DTSTART;VALUE=DATE:20260403
SUMMARY:Good Friday (Malaysia)
END:VEVENT
END:VCALENDAR