BEGIN:VCALENDAR
VERSION:2.0
PRODID:-//time.you/holidays//NONSGML v1.0//EN
BEGIN:VEVENT
UID:24535481-e435-4ee1-9150-d1fd074902c1
DTSTAMP:20260425T111734Z
DTSTART;VALUE=DATE:20260116
SUMMARY:Isra' and Mi'raj (estimated) (Malaysia)
END:VEVENT
END:VCALENDAR