BEGIN:VCALENDAR
VERSION:2.0
PRODID:-//time.you/holidays//NONSGML v1.0//EN
BEGIN:VEVENT
UID:2868f843-c9bd-47c5-bdb9-c40d319ee99a
DTSTAMP:20260423T140534Z
DTSTART;VALUE=DATE:20260118
SUMMARY:Isra' and Mi'raj (observed, estimated) (Malaysia)
END:VEVENT
END:VCALENDAR