BEGIN:VCALENDAR
VERSION:2.0
PRODID:-//time.you/holidays//NONSGML v1.0//EN
BEGIN:VEVENT
UID:2a3e3d86-9f5d-4a72-8f40-f0d2e458fbd8
DTSTAMP:20260421T185636Z
DTSTART;VALUE=DATE:20211203
SUMMARY:Malaysia Cup Holiday (Malaysia)
END:VEVENT
END:VCALENDAR