BEGIN:VCALENDAR
VERSION:2.0
PRODID:-//time.you/holidays//NONSGML v1.0//EN
BEGIN:VEVENT
UID:034766c3-8a51-4860-8d86-3e5e62083543
DTSTAMP:20260424T143502Z
DTSTART;VALUE=DATE:20260916
SUMMARY:Malaysia Day (Malaysia)
END:VEVENT
END:VCALENDAR