BEGIN:VCALENDAR
VERSION:2.0
PRODID:-//time.you/holidays//NONSGML v1.0//EN
BEGIN:VEVENT
UID:4f7b26db-3a84-4b76-adc0-a3ddf8c79652
DTSTAMP:20260424T164233Z
DTSTART;VALUE=DATE:20280214
SUMMARY:Nuzul Al-Quran Day (observed, estimated) (Malaysia)
END:VEVENT
END:VCALENDAR