BEGIN:VCALENDAR
VERSION:2.0
PRODID:-//time.you/holidays//NONSGML v1.0//EN
BEGIN:VEVENT
UID:767aae3a-fdd0-4491-a4f0-8e3b2ae58f91
DTSTAMP:20260423T185619Z
DTSTART;VALUE=DATE:20250905
SUMMARY:Prophet Muhammad's Birthday (Malaysia)
END:VEVENT
END:VCALENDAR