BEGIN:VCALENDAR
VERSION:2.0
PRODID:-//time.you/holidays//NONSGML v1.0//EN
BEGIN:VEVENT
UID:6f703fa5-2c21-47c9-aa40-bd8727de4750
DTSTAMP:20260424T143209Z
DTSTART;VALUE=DATE:20260202
SUMMARY:Thaipusam (observed) (Malaysia)
END:VEVENT
END:VCALENDAR