BEGIN:VCALENDAR
VERSION:2.0
PRODID:-//time.you/holidays//NONSGML v1.0//EN
BEGIN:VEVENT
UID:62044209-02ee-455d-8cf0-e6a3d60e96d6
DTSTAMP:20260420T184858Z
DTSTART;VALUE=DATE:20260201
SUMMARY:Thaipusam (Malaysia)
END:VEVENT
END:VCALENDAR