BEGIN:VCALENDAR
VERSION:2.0
PRODID:-//time.you/holidays//NONSGML v1.0//EN
BEGIN:VEVENT
UID:fb717fbb-5504-4dca-ab73-bb20f771c9aa
DTSTAMP:20260422T071641Z
DTSTART;VALUE=DATE:20260720
SUMMARY:The Sultan of Johor Hol (estimated) (Malaysia)
END:VEVENT
END:VCALENDAR