BEGIN:VCALENDAR
VERSION:2.0
PRODID:-//time.you/holidays//NONSGML v1.0//EN
BEGIN:VEVENT
UID:638664f0-bed6-4471-ad4e-f6c0824552fc
DTSTAMP:20260424T164726Z
DTSTART;VALUE=DATE:20240522
SUMMARY:The Sultan of Pahang Hol; Vesak Day (Malaysia)
END:VEVENT
END:VCALENDAR