BEGIN:VCALENDAR
VERSION:2.0
PRODID:-//time.you/holidays//NONSGML v1.0//EN
BEGIN:VEVENT
UID:e6f10836-46b8-47b0-9760-c985828e0f95
DTSTAMP:20260421T203331Z
DTSTART;VALUE=DATE:20260522
SUMMARY:The Sultan of Pahang Hol (Malaysia)
END:VEVENT
END:VCALENDAR