BEGIN:VCALENDAR
VERSION:2.0
PRODID:-//time.you/holidays//NONSGML v1.0//EN
BEGIN:VEVENT
UID:800d0dc6-d3d2-4e98-9d1e-c7182e65c4f4
DTSTAMP:20260421T155032Z
DTSTART;VALUE=DATE:20270520
SUMMARY:Vesak Day (estimated) (Malaysia)
END:VEVENT
END:VCALENDAR