BEGIN:VCALENDAR
VERSION:2.0
PRODID:-//time.you/holidays//NONSGML v1.0//EN
BEGIN:VEVENT
UID:40295463-4a19-4fc6-9c2f-5590bb932542
DTSTAMP:20260421T184106Z
DTSTART;VALUE=DATE:20220516
SUMMARY:Vesak Day (observed) (Malaysia)
END:VEVENT
END:VCALENDAR