BEGIN:VCALENDAR
VERSION:2.0
PRODID:-//time.you/holidays//NONSGML v1.0//EN
BEGIN:VEVENT
UID:11342436-6b56-470d-854b-c1b3e14acb7d
DTSTAMP:20260424T053246Z
DTSTART;VALUE=DATE:20260218
SUMMARY:Beginning of Ramadan (estimated) (Maldives)
END:VEVENT
END:VCALENDAR