BEGIN:VCALENDAR
VERSION:2.0
PRODID:-//time.you/holidays//NONSGML v1.0//EN
BEGIN:VEVENT
UID:93e4dd6b-cf7f-45f3-8992-735356a2f18e
DTSTAMP:20260421T155147Z
DTSTART;VALUE=DATE:20260527
SUMMARY:Eid al-Adha (estimated) (Maldives)
END:VEVENT
END:VCALENDAR