BEGIN:VCALENDAR
VERSION:2.0
PRODID:-//time.you/holidays//NONSGML v1.0//EN
BEGIN:VEVENT
UID:03dd0506-219e-4cdd-a698-6869ddf39004
DTSTAMP:20260424T073143Z
DTSTART;VALUE=DATE:20260726
SUMMARY:Independence Day (Maldives)
END:VEVENT
END:VCALENDAR