BEGIN:VCALENDAR
VERSION:2.0
PRODID:-//time.you/holidays//NONSGML v1.0//EN
BEGIN:VEVENT
UID:df75459f-4810-47ac-90f4-48697c42eff1
DTSTAMP:20260420T074422Z
DTSTART;VALUE=DATE:20260616
SUMMARY:Islamic New Year (estimated) (Maldives)
END:VEVENT
END:VCALENDAR