BEGIN:VCALENDAR
VERSION:2.0
PRODID:-//time.you/holidays//NONSGML v1.0//EN
BEGIN:VEVENT
UID:615fbf74-eb97-4a48-b76d-f5ef8a1d7702
DTSTAMP:20260420T132312Z
DTSTART;VALUE=DATE:20260501
SUMMARY:Labor Day (Maldives)
END:VEVENT
END:VCALENDAR