BEGIN:VCALENDAR
VERSION:2.0
PRODID:-//time.you/holidays//NONSGML v1.0//EN
BEGIN:VEVENT
UID:cce990a8-a69d-4e63-908d-c05b8583e40d
DTSTAMP:20260423T233144Z
DTSTART;VALUE=DATE:20260825
SUMMARY:Mawlid al-Nabi (estimated) (Maldives)
END:VEVENT
END:VCALENDAR