BEGIN:VCALENDAR
VERSION:2.0
PRODID:-//time.you/holidays//NONSGML v1.0//EN
BEGIN:VEVENT
UID:5fc692d3-ca40-460e-80b6-bf7124a3c9da
DTSTAMP:20260425T105849Z
DTSTART;VALUE=DATE:20260814
SUMMARY:National Day (estimated) (Maldives)
END:VEVENT
END:VCALENDAR