BEGIN:VCALENDAR
VERSION:2.0
PRODID:-//time.you/holidays//NONSGML v1.0//EN
BEGIN:VEVENT
UID:66e3f7be-fce4-4e53-b438-093e1b911790
DTSTAMP:20260424T033921Z
DTSTART;VALUE=DATE:20260912
SUMMARY:The Day Maldives Embraced Islam (estimated) (Maldives)
END:VEVENT
END:VCALENDAR