BEGIN:VCALENDAR
VERSION:2.0
PRODID:-//time.you/holidays//NONSGML v1.0//EN
BEGIN:VEVENT
UID:0e2ea35c-281f-4690-b287-5ffc1006342a
DTSTAMP:20260420T022154Z
DTSTART;VALUE=DATE:20260120
SUMMARY:Armed Forces Day (Mali)
END:VEVENT
END:VCALENDAR