BEGIN:VCALENDAR
VERSION:2.0
PRODID:-//time.you/holidays//NONSGML v1.0//EN
BEGIN:VEVENT
UID:706246b0-4269-4b74-bf8d-95510a117e32
DTSTAMP:20260423T164155Z
DTSTART;VALUE=DATE:20250330
SUMMARY:Eid al-Fitr (Mali)
END:VEVENT
END:VCALENDAR