BEGIN:VCALENDAR
VERSION:2.0
PRODID:-//time.you/holidays//NONSGML v1.0//EN
BEGIN:VEVENT
UID:c6327873-c6bc-40aa-a34e-b9e48366e1b1
DTSTAMP:20260419T233523Z
DTSTART;VALUE=DATE:20260101
SUMMARY:New Year's Day (Mali)
END:VEVENT
END:VCALENDAR