BEGIN:VCALENDAR
VERSION:2.0
PRODID:-//time.you/holidays//NONSGML v1.0//EN
BEGIN:VEVENT
UID:4b703051-a514-432f-80dc-d965df13d81b
DTSTAMP:20260421T211744Z
DTSTART;VALUE=DATE:20260908
SUMMARY:Feast of Our Lady of Victories (Malta)
END:VEVENT
END:VCALENDAR