BEGIN:VCALENDAR
VERSION:2.0
PRODID:-//time.you/holidays//NONSGML v1.0//EN
BEGIN:VEVENT
UID:f0222674-bf79-41be-84e6-2f4bf28c141a
DTSTAMP:20260420T071609Z
DTSTART;VALUE=DATE:20260815
SUMMARY:Feast of the Assumption (Malta)
END:VEVENT
END:VCALENDAR