BEGIN:VCALENDAR
VERSION:2.0
PRODID:-//time.you/holidays//NONSGML v1.0//EN
BEGIN:VEVENT
UID:274208bb-2aa8-435a-9bde-441429dbce03
DTSTAMP:20260421T011331Z
DTSTART;VALUE=DATE:20260921
SUMMARY:Independence Day (Malta)
END:VEVENT
END:VCALENDAR