BEGIN:VCALENDAR
VERSION:2.0
PRODID:-//time.you/holidays//NONSGML v1.0//EN
BEGIN:VEVENT
UID:42c60a03-0cae-4099-86e2-a446e7a3d125
DTSTAMP:20260421T003950Z
DTSTART;VALUE=DATE:20260501
SUMMARY:Worker's Day (Malta)
END:VEVENT
END:VCALENDAR