BEGIN:VCALENDAR
VERSION:2.0
PRODID:-//time.you/holidays//NONSGML v1.0//EN
BEGIN:VEVENT
UID:dae97d03-5c5c-4ed1-9def-53ef06d23327
DTSTAMP:20260421T131406Z
DTSTART;VALUE=DATE:20331226
SUMMARY:Christmas Day Holiday (Marshall Islands)
END:VEVENT
END:VCALENDAR