BEGIN:VCALENDAR
VERSION:2.0
PRODID:-//time.you/holidays//NONSGML v1.0//EN
BEGIN:VEVENT
UID:a59dfd55-ed60-42ea-837c-a66c11953cb4
DTSTAMP:20260424T081101Z
DTSTART;VALUE=DATE:20330502
SUMMARY:Constitution Day Holiday (Marshall Islands)
END:VEVENT
END:VCALENDAR