BEGIN:VCALENDAR
VERSION:2.0
PRODID:-//time.you/holidays//NONSGML v1.0//EN
BEGIN:VEVENT
UID:c96426b7-259a-4ae5-b258-9df241a14bf9
DTSTAMP:20260421T004624Z
DTSTART;VALUE=DATE:20260501
SUMMARY:Constitution Day (Marshall Islands)
END:VEVENT
END:VCALENDAR