BEGIN:VCALENDAR
VERSION:2.0
PRODID:-//time.you/holidays//NONSGML v1.0//EN
BEGIN:VEVENT
UID:d065329d-4b03-4e31-bebd-a393bbaa764a
DTSTAMP:20260420T053438Z
DTSTART;VALUE=DATE:20260904
SUMMARY:Dri-jerbal Day (Marshall Islands)
END:VEVENT
END:VCALENDAR