BEGIN:VCALENDAR
VERSION:2.0
PRODID:-//time.you/holidays//NONSGML v1.0//EN
BEGIN:VEVENT
UID:a6d6b542-2039-4aa1-890d-2247696d3a8c
DTSTAMP:20260421T141908Z
DTSTART;VALUE=DATE:20231120
SUMMARY:General Election Day (Marshall Islands)
END:VEVENT
END:VCALENDAR