BEGIN:VCALENDAR
VERSION:2.0
PRODID:-//time.you/holidays//NONSGML v1.0//EN
BEGIN:VEVENT
UID:a9d2f6aa-31ee-4015-b5ff-e5b94a8c1b0e
DTSTAMP:20260420T053855Z
DTSTART;VALUE=DATE:20260403
SUMMARY:Good Friday (Marshall Islands)
END:VEVENT
END:VCALENDAR