BEGIN:VCALENDAR
VERSION:2.0
PRODID:-//time.you/holidays//NONSGML v1.0//EN
BEGIN:VEVENT
UID:dc5a0fde-7157-43d2-9077-1d0bc92b10ae
DTSTAMP:20260421T124546Z
DTSTART;VALUE=DATE:20261204
SUMMARY:Gospel Day (Marshall Islands)
END:VEVENT
END:VCALENDAR